BEGIN:VCALENDAR
VERSION:2.0
PRODID:-//Hughesville Area Public Library - ECPv6.15.11//NONSGML v1.0//EN
CALSCALE:GREGORIAN
METHOD:PUBLISH
X-WR-CALNAME:Hughesville Area Public Library
X-ORIGINAL-URL:https://haplpa.org
X-WR-CALDESC:Events for Hughesville Area Public Library
REFRESH-INTERVAL;VALUE=DURATION:PT1H
X-Robots-Tag:noindex
X-PUBLISHED-TTL:PT1H
BEGIN:VTIMEZONE
TZID:America/New_York
BEGIN:DAYLIGHT
TZOFFSETFROM:-0500
TZOFFSETTO:-0400
TZNAME:EDT
DTSTART:20250309T070000
END:DAYLIGHT
BEGIN:STANDARD
TZOFFSETFROM:-0400
TZOFFSETTO:-0500
TZNAME:EST
DTSTART:20251102T060000
END:STANDARD
BEGIN:DAYLIGHT
TZOFFSETFROM:-0500
TZOFFSETTO:-0400
TZNAME:EDT
DTSTART:20260308T070000
END:DAYLIGHT
BEGIN:STANDARD
TZOFFSETFROM:-0400
TZOFFSETTO:-0500
TZNAME:EST
DTSTART:20261101T060000
END:STANDARD
BEGIN:DAYLIGHT
TZOFFSETFROM:-0500
TZOFFSETTO:-0400
TZNAME:EDT
DTSTART:20270314T070000
END:DAYLIGHT
BEGIN:STANDARD
TZOFFSETFROM:-0400
TZOFFSETTO:-0500
TZNAME:EST
DTSTART:20271107T060000
END:STANDARD
BEGIN:DAYLIGHT
TZOFFSETFROM:-0500
TZOFFSETTO:-0400
TZNAME:EDT
DTSTART:20280312T070000
END:DAYLIGHT
BEGIN:STANDARD
TZOFFSETFROM:-0400
TZOFFSETTO:-0500
TZNAME:EST
DTSTART:20281105T060000
END:STANDARD
END:VTIMEZONE
BEGIN:VEVENT
DTSTART;TZID=America/New_York:20260514T103000
DTEND;TZID=America/New_York:20260514T111500
DTSTAMP:20260421T052552
CREATED:20260416T160959Z
LAST-MODIFIED:20260416T160959Z
UID:10002416-1778754600-1778757300@haplpa.org
SUMMARY:Wee Make Music & Storytime
DESCRIPTION:This program is filled with music\, movement\, and book-sharing for babies and children up to 3 years old and their caregivers. It represents one of the many ways Pennsylvania Public Libraries support the PA Forward Initiative by providing civic\, social\, and basic literacy opportunities for learning. \n* NOTE: Please be advised that photographs may be taken at this event/program for use on the Hughesville Area Public Library website and in the press\, HAPL marketing materials\, and other library publications. By registering for or attending this event\, you consent to the library photographing and using your image and likeness. No names will be used. If you do not want your photograph taken\, you may still register or attend the event\, but please let the staff person in charge know. * \nRegistration is required below. Registering for one day will not register you for the entire series of events\, so pick which day(s) work best for your schedule! \n 
URL:https://haplpa.org/event/wee-make-music-storytime-7/
LOCATION:Hughesville Area Public Library\, 146 S 5th St\, Hughesville\, PA\, 17737\, United States
END:VEVENT
BEGIN:VEVENT
DTSTART;TZID=America/New_York:20260514T133000
DTEND;TZID=America/New_York:20260514T140000
DTSTAMP:20260421T052552
CREATED:20260416T164016Z
LAST-MODIFIED:20260416T164016Z
UID:10002422-1778765400-1778767200@haplpa.org
SUMMARY:Game On For Teens!
DESCRIPTION:Join us for lowkey games at the library. More than just games\, it’s an opportunity to make memories\, laughing until it hurts\, and finding out who the real gaming champ is.  \n  \nWe have games to choose from at the library\, or you can bring your own to share.  \n  \nThis event is open to ages 10-16.  \n  \nPlease register below.
URL:https://haplpa.org/event/game-on-for-teens-10/
LOCATION:Hughesville Area Public Library\, 146 S 5th St\, Hughesville\, PA\, 17737\, United States
END:VEVENT
BEGIN:VEVENT
DTSTART;TZID=America/New_York:20260514T140000
DTEND;TZID=America/New_York:20260514T150000
DTSTAMP:20260421T052552
CREATED:20260416T154119Z
LAST-MODIFIED:20260416T154235Z
UID:10002410-1778767200-1778770800@haplpa.org
SUMMARY:Homeschool Community Group
DESCRIPTION:Make a zoo diorama! \n  \nStudents will pick an animal\, take time and dig into facts about that animal and what their habitat should look like before creating an zoo enclosure or diorama for the animal of their choice. \n  \nThis event is open to children ages 5-14. \n  \nChildren who fall outside of this age requirement are welcome to participate in other activities in the main area of the library. Please call us if you have any questions. \n  \nRegistration is required below! \n  \n*NOTE: Please be advised that photographs may be taken at this event/program for use on the Hughesville Area Public Library website and in the press\, marketing materials\, and other library publications. By registering for or attending this event\, you consent to the library photographing and using your image and likeness. No names will be used. If you do not want your photograph taken\, you may still register or attend the event\, but please let the staff person in charge know.* \n 
URL:https://haplpa.org/event/homeschool-community-group-7/
LOCATION:Hughesville Area Public Library\, 146 S 5th St\, Hughesville\, PA\, 17737\, United States
END:VEVENT
BEGIN:VEVENT
DTSTART;TZID=America/New_York:20260514T140000
DTEND;TZID=America/New_York:20260514T150000
DTSTAMP:20260421T052552
CREATED:20260416T155308Z
LAST-MODIFIED:20260416T155308Z
UID:10002413-1778767200-1778770800@haplpa.org
SUMMARY:Homeschool Preschool
DESCRIPTION:This story session is perfect for children from 1 through age 4\, especially while older siblings participate in the concurrent Homeschool Community Group activities. \nPlease register below.
URL:https://haplpa.org/event/homeschool-preschool-11/
LOCATION:Hughesville Area Public Library\, 146 S 5th St\, Hughesville\, PA\, 17737\, United States
END:VEVENT
BEGIN:VEVENT
DTSTART;TZID=America/New_York:20260518T103000
DTEND;TZID=America/New_York:20260518T113000
DTSTAMP:20260421T052552
CREATED:20260409T173021Z
LAST-MODIFIED:20260416T152153Z
UID:10002399-1779100200-1779103800@haplpa.org
SUMMARY:Preschool Hour
DESCRIPTION:Preschool Hour is a beautiful tradition that builds literacy and nurtures children’s social skills. It is for children 3–5 years old and their caregivers.\n \n\nOlder or younger siblings that do not meet the age requirements for this event are welcome to participate in other activities in the main library area during preschool time.\n \n\nEach week has a different theme\, but the activities will not change between Monday and Tuesday; therefore\, please only sign up for one Preschool Hour event per week. However\, you are welcome to sign up for Preschool Hour + Wee Make Music in the same week if your child meets the age requirements for each event.\n \n\nThis week’s theme is: Spring Flowers\n \n\nSharing books and reading together is the best way to raise a reader. This program is one of the many ways Pennsylvania Public Libraries supports the PA Forward Initiative by providing civic\, social\, and basic literacy opportunities for learning.\n \n\n*NOTE: Please be advised that photographs may be taken at this event/program for use on the Hughesville Area Public Library website and in the press\, marketing materials\, and other library publications. By registering for or attending this event\, you consent to the library photographing and using your image and likeness. No names will be used. If you do not want your photograph taken\, you may still register or attend the event\, but please let the staff person in charge know.* \n 
URL:https://haplpa.org/event/preschool-hour-14/
LOCATION:Hughesville Area Public Library\, 146 S 5th St\, Hughesville\, PA\, 17737\, United States
END:VEVENT
BEGIN:VEVENT
DTSTART;TZID=America/New_York:20260519T173000
DTEND;TZID=America/New_York:20260519T183000
DTSTAMP:20260421T052552
CREATED:20260416T143347Z
LAST-MODIFIED:20260420T171730Z
UID:10002404-1779211800-1779215400@haplpa.org
SUMMARY:Bingo
DESCRIPTION:Join us for a fun and exciting game of bingo! \nFee $5.00 (includes 10 games with prizes and Jackpot payout) \nPlease register below.
URL:https://haplpa.org/event/bingo-4/
LOCATION:Hughesville Area Public Library\, 146 S 5th St\, Hughesville\, PA\, 17737\, United States
END:VEVENT
BEGIN:VEVENT
DTSTART;TZID=America/New_York:20260521T103000
DTEND;TZID=America/New_York:20260521T111500
DTSTAMP:20260421T052552
CREATED:20260416T161146Z
LAST-MODIFIED:20260416T161146Z
UID:10002417-1779359400-1779362100@haplpa.org
SUMMARY:Wee Make Music & Storytime
DESCRIPTION:This program is filled with music\, movement\, and book-sharing for babies and children up to 3 years old and their caregivers. It represents one of the many ways Pennsylvania Public Libraries support the PA Forward Initiative by providing civic\, social\, and basic literacy opportunities for learning. \n* NOTE: Please be advised that photographs may be taken at this event/program for use on the Hughesville Area Public Library website and in the press\, HAPL marketing materials\, and other library publications. By registering for or attending this event\, you consent to the library photographing and using your image and likeness. No names will be used. If you do not want your photograph taken\, you may still register or attend the event\, but please let the staff person in charge know. * \nRegistration is required below. Registering for one day will not register you for the entire series of events\, so pick which day(s) work best for your schedule! \n  \n 
URL:https://haplpa.org/event/wee-make-music-storytime-8/
LOCATION:Hughesville Area Public Library\, 146 S 5th St\, Hughesville\, PA\, 17737\, United States
END:VEVENT
BEGIN:VEVENT
DTSTART;TZID=America/New_York:20260521T103000
DTEND;TZID=America/New_York:20260521T113000
DTSTAMP:20260421T052552
CREATED:20260129T202952Z
LAST-MODIFIED:20260406T205925Z
UID:10001417-1779359400-1779363000@haplpa.org
SUMMARY:The Human Body: Life-Size Organ Outlines
DESCRIPTION:Students trace life-sized outlines of themselves onto large paper\, then place organ cutouts in the correct locations. They’ll learn the functions of each major organ and see how everything fits together inside the human body. This interactive activity makes anatomy come alive at a scale they can relate to! The Bloomsburg Children’s Museum will be visiting us to facilitate this activity. This program is one of the many ways Pennsylvania Public Libraries supports the PA Forward Initiative by providing literacy opportunities for learning. \n  \nThis event is open to children ages 3-5 and their caregivers\, and it will last approximately one hour. Registration is required below.
URL:https://haplpa.org/event/the-human-body-life-size-organ-outlines/
LOCATION:Hughesville Area Public Library\, 146 S 5th St\, Hughesville\, PA\, 17737\, United States
END:VEVENT
BEGIN:VEVENT
DTSTART;TZID=America/New_York:20260521T133000
DTEND;TZID=America/New_York:20260521T140000
DTSTAMP:20260421T052552
CREATED:20260416T164309Z
LAST-MODIFIED:20260416T164309Z
UID:10002424-1779370200-1779372000@haplpa.org
SUMMARY:Game On For Teens!
DESCRIPTION:Join us for lowkey games at the library. More than just games\, it’s an opportunity to make memories\, laughing until it hurts\, and finding out who the real gaming champ is.  \n  \nWe have games to choose from at the library\, or you can bring your own to share.  \n  \nThis event is open to ages 10-16.  \n  \nPlease register below.
URL:https://haplpa.org/event/game-on-for-teens-11/
LOCATION:Hughesville Area Public Library\, 146 S 5th St\, Hughesville\, PA\, 17737\, United States
END:VEVENT
BEGIN:VEVENT
DTSTART;TZID=America/New_York:20260521T140000
DTEND;TZID=America/New_York:20260521T150000
DTSTAMP:20260421T052552
CREATED:20260416T154714Z
LAST-MODIFIED:20260416T154714Z
UID:10002411-1779372000-1779375600@haplpa.org
SUMMARY:Homeschool Community Group
DESCRIPTION:Put your detective hats on! Solve puzzles by finding clues\, discovering codes to unlock the box and the mystery.\n \n\nThis event is open to children ages 5-14. Children who fall outside of this age requirement are welcome to participate in other activities in the main area of the library. Please call us if you have any questions.\n \n\nRegistration is required below!\n \n\n*NOTE: Please be advised that photographs may be taken at this event/program for use on the Hughesville Area Public Library website and in the press\, marketing materials\, and other library publications. By registering for or attending this event\, you consent to the library photographing and using your image and likeness. No names will be used. If you do not want your photograph taken\, you may still register or attend the event\, but please let the staff person in charge know.* \n 
URL:https://haplpa.org/event/homeschool-community-group-8/
LOCATION:Hughesville Area Public Library\, 146 S 5th St\, Hughesville\, PA\, 17737\, United States
END:VEVENT
BEGIN:VEVENT
DTSTART;TZID=America/New_York:20260521T140000
DTEND;TZID=America/New_York:20260521T150000
DTSTAMP:20260421T052552
CREATED:20260416T160117Z
LAST-MODIFIED:20260416T160117Z
UID:10002414-1779372000-1779375600@haplpa.org
SUMMARY:Homeschool Preschool
DESCRIPTION:This story session is perfect for children from 1 through age 4\, especially while older siblings participate in the concurrent Homeschool Community Group activities.\n \n\nPlease register below.
URL:https://haplpa.org/event/homeschool-preschool-12/
LOCATION:Hughesville Area Public Library\, 146 S 5th St\, Hughesville\, PA\, 17737\, United States
END:VEVENT
BEGIN:VEVENT
DTSTART;TZID=America/New_York:20260522T123000
DTEND;TZID=America/New_York:20260522T140000
DTSTAMP:20260421T052552
CREATED:20260416T163740Z
LAST-MODIFIED:20260416T163740Z
UID:10002421-1779453000-1779458400@haplpa.org
SUMMARY:Conversation & Games
DESCRIPTION:Enjoy games and lively conversation!  \nA variety of games is available\, but you are welcome to recommend one of your favorites. \n\nBringing snacks to share is encouraged but optional. \n\nAges 18+. Please register below!
URL:https://haplpa.org/event/conversation-games-2/
LOCATION:Hughesville Area Public Library\, 146 S 5th St\, Hughesville\, PA\, 17737\, United States
END:VEVENT
BEGIN:VEVENT
DTSTART;VALUE=DATE:20260525
DTEND;VALUE=DATE:20260526
DTSTAMP:20260421T052552
CREATED:20260109T144836Z
LAST-MODIFIED:20260109T144836Z
UID:10001326-1779667200-1779753599@haplpa.org
SUMMARY:CLOSED
DESCRIPTION:The library will be closed today due to the holiday.
URL:https://haplpa.org/event/closed-7/
LOCATION:Hughesville Area Public Library\, 146 S 5th St\, Hughesville\, PA\, 17737\, United States
END:VEVENT
BEGIN:VEVENT
DTSTART;TZID=America/New_York:20260526T103000
DTEND;TZID=America/New_York:20260526T113000
DTSTAMP:20260421T052552
CREATED:20260409T173400Z
LAST-MODIFIED:20260416T152002Z
UID:10002400-1779791400-1779795000@haplpa.org
SUMMARY:Preschool Hour
DESCRIPTION:Preschool Hour is a beautiful tradition that builds literacy and nurtures children’s social skills. It is for children 3–5 years old and their caregivers.\n \n\nOlder or younger siblings that do not meet the age requirements for this event are welcome to participate in other activities in the main library area during preschool time.\n \n\nEach week has a different theme\, but the activities will not change between Monday and Tuesday; therefore\, please only sign up for one Preschool Hour event per week. However\, you are welcome to sign up for Preschool Hour + Wee Make Music in the same week if your child meets the age requirements for each event.\n \n\nThis week’s theme is: Spring Garden\n \n\nSharing books and reading together is the best way to raise a reader. This program is one of the many ways Pennsylvania Public Libraries supports the PA Forward Initiative by providing civic\, social\, and basic literacy opportunities for learning.\n \n\n*NOTE: Please be advised that photographs may be taken at this event/program for use on the Hughesville Area Public Library website and in the press\, marketing materials\, and other library publications. By registering for or attending this event\, you consent to the library photographing and using your image and likeness. No names will be used. If you do not want your photograph taken\, you may still register or attend the event\, but please let the staff person in charge know.* \n  \n \n 
URL:https://haplpa.org/event/preschool-hour-15/
LOCATION:Hughesville Area Public Library\, 146 S 5th St\, Hughesville\, PA\, 17737\, United States
END:VEVENT
BEGIN:VEVENT
DTSTART;TZID=America/New_York:20260526T173000
DTEND;TZID=America/New_York:20260526T183000
DTSTAMP:20260421T052552
CREATED:20260420T171954Z
LAST-MODIFIED:20260420T171954Z
UID:10002426-1779816600-1779820200@haplpa.org
SUMMARY:Bingo
DESCRIPTION:Join us for a fun and exciting game of bingo! \nFee $5.00 (includes 10 games with prizes and Jackpot payout) \nPlease register below.
URL:https://haplpa.org/event/bingo-5/
LOCATION:Hughesville Area Public Library\, 146 S 5th St\, Hughesville\, PA\, 17737\, United States
END:VEVENT
BEGIN:VEVENT
DTSTART;TZID=America/New_York:20260528T103000
DTEND;TZID=America/New_York:20260528T111500
DTSTAMP:20260421T052552
CREATED:20260416T161344Z
LAST-MODIFIED:20260416T161344Z
UID:10002418-1779964200-1779966900@haplpa.org
SUMMARY:Wee Make Music & Storytime
DESCRIPTION:This program is filled with music\, movement\, and book-sharing for babies and children up to 3 years old and their caregivers. It represents one of the many ways Pennsylvania Public Libraries support the PA Forward Initiative by providing civic\, social\, and basic literacy opportunities for learning. \n* NOTE: Please be advised that photographs may be taken at this event/program for use on the Hughesville Area Public Library website and in the press\, HAPL marketing materials\, and other library publications. By registering for or attending this event\, you consent to the library photographing and using your image and likeness. No names will be used. If you do not want your photograph taken\, you may still register or attend the event\, but please let the staff person in charge know. * \nRegistration is required below. Registering for one day will not register you for the entire series of events\, so pick which day(s) work best for your schedule! \n 
URL:https://haplpa.org/event/wee-make-music-storytime-9/
LOCATION:Hughesville Area Public Library\, 146 S 5th St\, Hughesville\, PA\, 17737\, United States
END:VEVENT
BEGIN:VEVENT
DTSTART;TZID=America/New_York:20260528T133000
DTEND;TZID=America/New_York:20260528T140000
DTSTAMP:20260421T052552
CREATED:20260416T164718Z
LAST-MODIFIED:20260416T164718Z
UID:10002425-1779975000-1779976800@haplpa.org
SUMMARY:Game On For Teens!
DESCRIPTION:Join us for lowkey games at the library. More than just games\, it’s an opportunity to make memories\, laughing until it hurts\, and finding out who the real gaming champ is.  \n  \nWe have games to choose from at the library\, or you can bring your own to share.  \n  \nThis event is open to ages 10-16.  \n  \nPlease register below.
URL:https://haplpa.org/event/game-on-for-teens-12/
LOCATION:Hughesville Area Public Library\, 146 S 5th St\, Hughesville\, PA\, 17737\, United States
END:VEVENT
BEGIN:VEVENT
DTSTART;TZID=America/New_York:20260528T140000
DTEND;TZID=America/New_York:20260528T150000
DTSTAMP:20260421T052552
CREATED:20260416T154954Z
LAST-MODIFIED:20260416T154954Z
UID:10002412-1779976800-1779980400@haplpa.org
SUMMARY:Homeschool Community Group
DESCRIPTION:Schools out! Come for a game day with your friends before breaking for the Summer.\n \n\nThis event is open to children ages 5-14. Children who fall outside of this age requirement are welcome to participate in other activities in the main area of the library. Please call us if you have any questions.\n \n\nRegistration is required below!\n \n\n*NOTE: Please be advised that photographs may be taken at this event/program for use on the Hughesville Area Public Library website and in the press\, marketing materials\, and other library publications. By registering for or attending this event\, you consent to the library photographing and using your image and likeness. No names will be used. If you do not want your photograph taken\, you may still register or attend the event\, but please let the staff person in charge know.* \n 
URL:https://haplpa.org/event/homeschool-community-group-9/
LOCATION:Hughesville Area Public Library\, 146 S 5th St\, Hughesville\, PA\, 17737\, United States
END:VEVENT
BEGIN:VEVENT
DTSTART;TZID=America/New_York:20260528T140000
DTEND;TZID=America/New_York:20260528T150000
DTSTAMP:20260421T052552
CREATED:20260416T160307Z
LAST-MODIFIED:20260416T160307Z
UID:10002415-1779976800-1779980400@haplpa.org
SUMMARY:Homeschool Preschool
DESCRIPTION:This story session is perfect for children from 1 through age 4\, especially while older siblings participate in the concurrent Homeschool Community Group activities.\n \n\nPlease register below.
URL:https://haplpa.org/event/homeschool-preschool-13/
LOCATION:Hughesville Area Public Library\, 146 S 5th St\, Hughesville\, PA\, 17737\, United States
END:VEVENT
BEGIN:VEVENT
DTSTART;TZID=America/New_York:20260528T173000
DTEND;TZID=America/New_York:20260528T183000
DTSTAMP:20260421T052552
CREATED:20260416T163014Z
LAST-MODIFIED:20260416T163014Z
UID:10002419-1779989400-1779993000@haplpa.org
SUMMARY:Adult Book Club
DESCRIPTION:“The Wedding People” by Alison Espach blends humor with serious themes like grief and depression. The story follows Phoebe as she forms surprising friendships and finds a new path forward. \n  \n Make sure you grab a drink and have snacks to munch on this wedding adventure! \n  \nPlease register below.
URL:https://haplpa.org/event/adult-book-club-3/
LOCATION:Hughesville Area Public Library\, 146 S 5th St\, Hughesville\, PA\, 17737\, United States
END:VEVENT
BEGIN:VEVENT
DTSTART;VALUE=DATE:20260704
DTEND;VALUE=DATE:20260705
DTSTAMP:20260421T052552
CREATED:20260109T144918Z
LAST-MODIFIED:20260109T144918Z
UID:10001327-1783123200-1783209599@haplpa.org
SUMMARY:CLOSED
DESCRIPTION:The library will be closed today due to the holiday.
URL:https://haplpa.org/event/closed-8/
LOCATION:Hughesville Area Public Library\, 146 S 5th St\, Hughesville\, PA\, 17737\, United States
END:VEVENT
BEGIN:VEVENT
DTSTART;TZID=America/New_York:20260720T100000
DTEND;TZID=America/New_York:20260725T140000
DTSTAMP:20260421T052552
CREATED:20260212T163132Z
LAST-MODIFIED:20260410T183458Z
UID:10001525-1784541600-1784988000@haplpa.org
SUMMARY:Youth Theatre Week
DESCRIPTION:Interested in theatre? Join us this summer for our first-ever Youth Theatre Week! Learn the basics of acting with voice lessons\, games and much more! This fun event will be held at the Hughesville Area Public Library on July 20th – July 25th from 10 am – 2 pm.  Kids are encouraged to bring a packed lunch. Each day the kids will learn about acting while they practice a play with the volunteer help of the Hughesville High School Theatre Club. This is a fun\, interactive event for kids going into grades 3-7. \n*Disclaimer: This event is not sponsored by the East Lycoming School District and will not be supervised by any school district personnel. \nPlease register one participant at a time.
URL:https://haplpa.org/event/youth-theatre-week/
LOCATION:Hughesville Area Public Library\, 146 S 5th St\, Hughesville\, PA\, 17737\, United States
END:VEVENT
BEGIN:VEVENT
DTSTART;VALUE=DATE:20260907
DTEND;VALUE=DATE:20260908
DTSTAMP:20260421T052552
CREATED:20260109T144955Z
LAST-MODIFIED:20260109T144955Z
UID:10001328-1788739200-1788825599@haplpa.org
SUMMARY:CLOSED
DESCRIPTION:The library will be closed today due to the holiday.
URL:https://haplpa.org/event/closed-9/
LOCATION:Hughesville Area Public Library\, 146 S 5th St\, Hughesville\, PA\, 17737\, United States
END:VEVENT
BEGIN:VEVENT
DTSTART;VALUE=DATE:20261012
DTEND;VALUE=DATE:20261013
DTSTAMP:20260421T052552
CREATED:20260109T145042Z
LAST-MODIFIED:20260109T145042Z
UID:10001329-1791763200-1791849599@haplpa.org
SUMMARY:CLOSED
DESCRIPTION:The library will be closed today due to the holiday.
URL:https://haplpa.org/event/closed-10/
LOCATION:Hughesville Area Public Library\, 146 S 5th St\, Hughesville\, PA\, 17737\, United States
END:VEVENT
BEGIN:VEVENT
DTSTART;VALUE=DATE:20261126
DTEND;VALUE=DATE:20261128
DTSTAMP:20260421T052552
CREATED:20260109T145153Z
LAST-MODIFIED:20260109T145153Z
UID:10001330-1795651200-1795823999@haplpa.org
SUMMARY:CLOSED
DESCRIPTION:The library will be closed today due to the holiday. We will reopen on November 28th at 9:00am.
URL:https://haplpa.org/event/closed-11/
LOCATION:Hughesville Area Public Library\, 146 S 5th St\, Hughesville\, PA\, 17737\, United States
END:VEVENT
BEGIN:VEVENT
DTSTART;VALUE=DATE:20261224
DTEND;VALUE=DATE:20261226
DTSTAMP:20260421T052552
CREATED:20260109T145320Z
LAST-MODIFIED:20260109T145320Z
UID:10001331-1798070400-1798243199@haplpa.org
SUMMARY:CLOSED
DESCRIPTION:The library will be closed today due to the holiday. We will reopen on December 26th at 1:00pm.
URL:https://haplpa.org/event/closed-12/
LOCATION:Hughesville Area Public Library\, 146 S 5th St\, Hughesville\, PA\, 17737\, United States
END:VEVENT
BEGIN:VEVENT
DTSTART;VALUE=DATE:20261226
DTEND;VALUE=DATE:20261227
DTSTAMP:20260421T052552
CREATED:20260109T145418Z
LAST-MODIFIED:20260109T145418Z
UID:10001332-1798243200-1798329599@haplpa.org
SUMMARY:Open from 1-4pm
DESCRIPTION:The library will be open from 1:00-4:00pm on December 26th.
URL:https://haplpa.org/event/open-from-1-4pm/
LOCATION:Hughesville Area Public Library\, 146 S 5th St\, Hughesville\, PA\, 17737\, United States
END:VEVENT
BEGIN:VEVENT
DTSTART;VALUE=DATE:20261231
DTEND;VALUE=DATE:20270101
DTSTAMP:20260421T052553
CREATED:20260109T145603Z
LAST-MODIFIED:20260109T145603Z
UID:10001333-1798675200-1798761599@haplpa.org
SUMMARY:Open from 10am-1pm
DESCRIPTION:The library will be open from 10:00am-1:00pm due to the holiday. Normal hours will resume on January 2nd\, 2027\, at 9:00am.
URL:https://haplpa.org/event/open-from-10am-1pm/
LOCATION:Hughesville Area Public Library\, 146 S 5th St\, Hughesville\, PA\, 17737\, United States
END:VEVENT
BEGIN:VEVENT
DTSTART;VALUE=DATE:20270101
DTEND;VALUE=DATE:20270102
DTSTAMP:20260421T052553
CREATED:20260109T145646Z
LAST-MODIFIED:20260109T145646Z
UID:10001334-1798761600-1798847999@haplpa.org
SUMMARY:CLOSED
DESCRIPTION:The library will be closed today due to the holiday.
URL:https://haplpa.org/event/closed-13/
LOCATION:Hughesville Area Public Library\, 146 S 5th St\, Hughesville\, PA\, 17737\, United States
END:VEVENT
END:VCALENDAR