BEGIN:VCALENDAR
VERSION:2.0
PRODID:-//Hughesville Area Public Library - ECPv6.15.11//NONSGML v1.0//EN
CALSCALE:GREGORIAN
METHOD:PUBLISH
X-WR-CALNAME:Hughesville Area Public Library
X-ORIGINAL-URL:https://haplpa.org
X-WR-CALDESC:Events for Hughesville Area Public Library
REFRESH-INTERVAL;VALUE=DURATION:PT1H
X-Robots-Tag:noindex
X-PUBLISHED-TTL:PT1H
BEGIN:VTIMEZONE
TZID:America/New_York
BEGIN:DAYLIGHT
TZOFFSETFROM:-0500
TZOFFSETTO:-0400
TZNAME:EDT
DTSTART:20250309T070000
END:DAYLIGHT
BEGIN:STANDARD
TZOFFSETFROM:-0400
TZOFFSETTO:-0500
TZNAME:EST
DTSTART:20251102T060000
END:STANDARD
BEGIN:DAYLIGHT
TZOFFSETFROM:-0500
TZOFFSETTO:-0400
TZNAME:EDT
DTSTART:20260308T070000
END:DAYLIGHT
BEGIN:STANDARD
TZOFFSETFROM:-0400
TZOFFSETTO:-0500
TZNAME:EST
DTSTART:20261101T060000
END:STANDARD
BEGIN:DAYLIGHT
TZOFFSETFROM:-0500
TZOFFSETTO:-0400
TZNAME:EDT
DTSTART:20270314T070000
END:DAYLIGHT
BEGIN:STANDARD
TZOFFSETFROM:-0400
TZOFFSETTO:-0500
TZNAME:EST
DTSTART:20271107T060000
END:STANDARD
END:VTIMEZONE
BEGIN:VEVENT
DTSTART;TZID=America/New_York:20260421T103000
DTEND;TZID=America/New_York:20260421T113000
DTSTAMP:20260421T041832
CREATED:20260317T165639Z
LAST-MODIFIED:20260326T155425Z
UID:10002375-1776767400-1776771000@haplpa.org
SUMMARY:HAPL Preschool Hour
DESCRIPTION:Preschool Hour is a beautiful tradition that builds literacy and nurtures children’s social skills. It is for children 3–5 years old and their caregivers.\n \n\nOlder or younger siblings that do not meet the age requirements for this event are welcome to participate in other activities in the main library area during preschool time.\n \n\nEach week has a different theme\, but the activities will not change between Monday and Tuesday; therefore\, please only sign up for one Preschool Hour event per week. However\, you are welcome to sign up for Preschool Hour + Wee Make Music in the same week if your child meets the age requirements for each event.\n \n\nThis week’s theme is: I Can Save the Earth \n  \nSharing books and reading together is the best way to raise a reader. This program is one of the many ways Pennsylvania Public Libraries supports the PA Forward Initiative by providing civic\, social\, and basic literacy opportunities for learning.\n \n\n*NOTE: Please be advised that photographs may be taken at this event/program for use on the Hughesville Area Public Library website and in the press\, marketing materials\, and other library publications. By registering for or attending this event\, you consent to the library photographing and using your image and likeness. No names will be used. If you do not want your photograph taken\, you may still register or attend the event\, but please let the staff person in charge know.*
URL:https://haplpa.org/event/hapl-preschool-hour-6/
LOCATION:Hughesville Area Public Library\, 146 S 5th St\, Hughesville\, PA\, 17737\, United States
END:VEVENT
BEGIN:VEVENT
DTSTART;TZID=America/New_York:20260421T150000
DTEND;TZID=America/New_York:20260421T180000
DTSTAMP:20260421T041832
CREATED:20241022T215027Z
LAST-MODIFIED:20260121T155051Z
UID:10000689-1776783600-1776794400@haplpa.org
SUMMARY:Knitting Club
DESCRIPTION:Grab your needles and yarn and join the knitting group that meets at the library every Tuesday from 3-6pm! This group is perfect for every level of knitting expertise—from novice to expert. New participants are encouraged to register.
URL:https://haplpa.org/event/kitting-club/2026-04-21/
LOCATION:PA
END:VEVENT
BEGIN:VEVENT
DTSTART;TZID=America/New_York:20260423T103000
DTEND;TZID=America/New_York:20260423T111500
DTSTAMP:20260421T041832
CREATED:20260317T171909Z
LAST-MODIFIED:20260326T155447Z
UID:10002381-1776940200-1776942900@haplpa.org
SUMMARY:Wee Make Music & Storytime
DESCRIPTION:This program is filled with music\, movement\, and book-sharing for babies and children up to 3 years old and their caregivers. It represents one of the many ways Pennsylvania Public Libraries support the PA Forward Initiative by providing civic\, social\, and basic literacy opportunities for learning. \n* NOTE: Please be advised that photographs may be taken at this event/program for use on the Hughesville Area Public Library website and in the press\, HAPL marketing materials\, and other library publications. By registering for or attending this event\, you consent to the library photographing and using your image and likeness. No names will be used. If you do not want your photograph taken\, you may still register or attend the event\, but please let the staff person in charge know. * \nRegistration is required below. Registering for one day will not register you for the entire series of events\, so pick which day(s) work best for your schedule! \n 
URL:https://haplpa.org/event/wee-make-music-storytime-4/
LOCATION:Hughesville Area Public Library\, 146 S 5th St\, Hughesville\, PA\, 17737\, United States
END:VEVENT
BEGIN:VEVENT
DTSTART;TZID=America/New_York:20260423T133000
DTEND;TZID=America/New_York:20260423T140000
DTSTAMP:20260421T041832
CREATED:20260401T171653Z
LAST-MODIFIED:20260410T183017Z
UID:10002394-1776951000-1776952800@haplpa.org
SUMMARY:Game On For Teens!
DESCRIPTION:Join us for lowkey games at the library. It’s more than just the games – it’s about making memories\, laughing until it hurts\, and finding out who the real gaming champ is. \nWe have games to choose from at the library or you can bring your own to share. \nThis event is open to ages 10-16. Please register below. \n*NOTE: Please be advised that photographs may be taken at this event/program for use on the Hughesville Area Public Library website and in the press\, marketing materials\, and other library publications. By registering for or attending this event\, you consent to the library photographing and using your image and likeness. No names will be used. If you do not want your photograph taken\, you may still register or attend the event\, but please let the staff person in charge know.*
URL:https://haplpa.org/event/game-on-for-teens-7/
LOCATION:Hughesville Area Public Library\, 146 S 5th St\, Hughesville\, PA\, 17737\, United States
END:VEVENT
BEGIN:VEVENT
DTSTART;TZID=America/New_York:20260423T140000
DTEND;TZID=America/New_York:20260423T150000
DTSTAMP:20260421T041832
CREATED:20260317T161428Z
LAST-MODIFIED:20260326T155508Z
UID:10002363-1776952800-1776956400@haplpa.org
SUMMARY:Homeschool Preschool
DESCRIPTION:This story session is perfect for children from 1 through age 4\, especially while older siblings participate in the concurrent Homeschool Community Group activities. \n  \nPlease register below.
URL:https://haplpa.org/event/homeschool-preschool-8/
LOCATION:Hughesville Area Public Library\, 146 S 5th St\, Hughesville\, PA\, 17737\, United States
END:VEVENT
BEGIN:VEVENT
DTSTART;TZID=America/New_York:20260423T140000
DTEND;TZID=America/New_York:20260423T150000
DTSTAMP:20260421T041832
CREATED:20260317T175202Z
LAST-MODIFIED:20260326T155536Z
UID:10002386-1776952800-1776956400@haplpa.org
SUMMARY:Homeschool Community Group
DESCRIPTION:Stained glass and the rose window — an introduction to the art of stained glass and how it is made and have the chance to make your own stained glass inspired projects.\n \n\nThis event is open to children ages 5-14. Children who fall outside of this age requirement are welcome to participate in other activities in the main area of the library. Please call us if you have any questions.\n \n\nRegistration is required below!\n \n\n*NOTE: Please be advised that photographs may be taken at this event/program for use on the Hughesville Area Public Library website and in the press\, marketing materials\, and other library publications. By registering for or attending this event\, you consent to the library photographing and using your image and likeness. No names will be used. If you do not want your photograph taken\, you may still register or attend the event\, but please let the staff person in charge know.* \n 
URL:https://haplpa.org/event/homeschool-community-group-4/
LOCATION:Hughesville Area Public Library\, 146 S 5th St\, Hughesville\, PA\, 17737\, United States
END:VEVENT
BEGIN:VEVENT
DTSTART;TZID=America/New_York:20260423T173000
DTEND;TZID=America/New_York:20260423T183000
DTSTAMP:20260421T041832
CREATED:20260317T161957Z
LAST-MODIFIED:20260327T192750Z
UID:10002365-1776965400-1776969000@haplpa.org
SUMMARY:Adult Book Club
DESCRIPTION:Let’s talk about The Book of Lost Names by Kristin Harmel!\nThis historical fiction novel inspired by true events focuses on Eva Straube\, a young woman who flees Paris in 1942 after her father’s arrest. In a small\, Nazi occupied French town\, she uses her artistic talent to forge identity documents for Jewish children escaping to Switzerland. \n\nFeel free to bring a snack to share\, but don’t feel obligated. \n  \nPlease register below.
URL:https://haplpa.org/event/adult-book-club-2/
LOCATION:Hughesville Area Public Library\, 146 S 5th St\, Hughesville\, PA\, 17737\, United States
END:VEVENT
BEGIN:VEVENT
DTSTART;TZID=America/New_York:20260424T123000
DTEND;TZID=America/New_York:20260424T140000
DTSTAMP:20260421T041832
CREATED:20260317T162620Z
LAST-MODIFIED:20260326T155622Z
UID:10002367-1777033800-1777039200@haplpa.org
SUMMARY:Conversation and Games
DESCRIPTION:Enjoy games and lively conversation!\nA variety of games is available\, but you are welcome to recommend one of your favorites.\n \nBringing snacks to share is encouraged but optional. \n  \n\nAges 18+. Please register below!
URL:https://haplpa.org/event/conversation-and-games-2/
LOCATION:Hughesville Area Public Library\, 146 S 5th St\, Hughesville\, PA\, 17737\, United States
END:VEVENT
BEGIN:VEVENT
DTSTART;TZID=America/New_York:20260427T103000
DTEND;TZID=America/New_York:20260427T113000
DTSTAMP:20260421T041832
CREATED:20260317T165936Z
LAST-MODIFIED:20260326T155654Z
UID:10002376-1777285800-1777289400@haplpa.org
SUMMARY:HAPL Preschool Hour
DESCRIPTION:Preschool Hour is a beautiful tradition that builds literacy and nurtures children’s social skills. It is for children 3–5 years old and their caregivers.\n \n\nOlder or younger siblings that do not meet the age requirements for this event are welcome to participate in other activities in the main library area during preschool time.\n \n\nEach week has a different theme\, but the activities will not change between Monday and Tuesday; therefore\, please only sign up for one Preschool Hour event per week. However\, you are welcome to sign up for Preschool Hour + Wee Make Music in the same week if your child meets the age requirements for each event.\n \n\nThis week’s theme is: Every Day is Earth Day \n  \nSharing books and reading together is the best way to raise a reader. This program is one of the many ways Pennsylvania Public Libraries supports the PA Forward Initiative by providing civic\, social\, and basic literacy opportunities for learning.\n \n\n*NOTE: Please be advised that photographs may be taken at this event/program for use on the Hughesville Area Public Library website and in the press\, marketing materials\, and other library publications. By registering for or attending this event\, you consent to the library photographing and using your image and likeness. No names will be used. If you do not want your photograph taken\, you may still register or attend the event\, but please let the staff person in charge know.* \n 
URL:https://haplpa.org/event/hapl-preschool-hour-7/
LOCATION:Hughesville Area Public Library\, 146 S 5th St\, Hughesville\, PA\, 17737\, United States
END:VEVENT
BEGIN:VEVENT
DTSTART;TZID=America/New_York:20260428T103000
DTEND;TZID=America/New_York:20260428T113000
DTSTAMP:20260421T041832
CREATED:20260317T170541Z
LAST-MODIFIED:20260326T155717Z
UID:10002377-1777372200-1777375800@haplpa.org
SUMMARY:HAPL Preschool Hour
DESCRIPTION:Preschool Hour is a beautiful tradition that builds literacy and nurtures children’s social skills. It is for children 3–5 years old and their caregivers.\n \n\nOlder or younger siblings that do not meet the age requirements for this event are welcome to participate in other activities in the main library area during preschool time.\n \n\nEach week has a different theme\, but the activities will not change between Monday and Tuesday; therefore\, please only sign up for one Preschool Hour event per week. However\, you are welcome to sign up for Preschool Hour + Wee Make Music in the same week if your child meets the age requirements for each event.\n \n\nThis week’s theme is: Every Day is Earth Day \n  \nSharing books and reading together is the best way to raise a reader. This program is one of the many ways Pennsylvania Public Libraries supports the PA Forward Initiative by providing civic\, social\, and basic literacy opportunities for learning.\n \n\n*NOTE: Please be advised that photographs may be taken at this event/program for use on the Hughesville Area Public Library website and in the press\, marketing materials\, and other library publications. By registering for or attending this event\, you consent to the library photographing and using your image and likeness. No names will be used. If you do not want your photograph taken\, you may still register or attend the event\, but please let the staff person in charge know.* \n 
URL:https://haplpa.org/event/hapl-preschool-hour-8/
LOCATION:Hughesville Area Public Library\, 146 S 5th St\, Hughesville\, PA\, 17737\, United States
END:VEVENT
BEGIN:VEVENT
DTSTART;TZID=America/New_York:20260428T150000
DTEND;TZID=America/New_York:20260428T180000
DTSTAMP:20260421T041832
CREATED:20241022T215027Z
LAST-MODIFIED:20260121T155051Z
UID:10000690-1777388400-1777399200@haplpa.org
SUMMARY:Knitting Club
DESCRIPTION:Grab your needles and yarn and join the knitting group that meets at the library every Tuesday from 3-6pm! This group is perfect for every level of knitting expertise—from novice to expert. New participants are encouraged to register.
URL:https://haplpa.org/event/kitting-club/2026-04-28/
LOCATION:PA
END:VEVENT
BEGIN:VEVENT
DTSTART;TZID=America/New_York:20260430T103000
DTEND;TZID=America/New_York:20260430T111500
DTSTAMP:20260421T041832
CREATED:20260317T172139Z
LAST-MODIFIED:20260326T155745Z
UID:10002382-1777545000-1777547700@haplpa.org
SUMMARY:Wee Make Music & Storytime
DESCRIPTION:This program is filled with music\, movement\, and book-sharing for babies and children up to 3 years old and their caregivers. It represents one of the many ways Pennsylvania Public Libraries support the PA Forward Initiative by providing civic\, social\, and basic literacy opportunities for learning. \n* NOTE: Please be advised that photographs may be taken at this event/program for use on the Hughesville Area Public Library website and in the press\, HAPL marketing materials\, and other library publications. By registering for or attending this event\, you consent to the library photographing and using your image and likeness. No names will be used. If you do not want your photograph taken\, you may still register or attend the event\, but please let the staff person in charge know. * \nRegistration is required below. Registering for one day will not register you for the entire series of events\, so pick which day(s) work best for your schedule! \n 
URL:https://haplpa.org/event/wee-make-music-storytime-5/
LOCATION:Hughesville Area Public Library\, 146 S 5th St\, Hughesville\, PA\, 17737\, United States
END:VEVENT
BEGIN:VEVENT
DTSTART;TZID=America/New_York:20260430T130000
DTEND;TZID=America/New_York:20260430T140000
DTSTAMP:20260421T041832
CREATED:20260129T173649Z
LAST-MODIFIED:20260326T155902Z
UID:10001416-1777554000-1777557600@haplpa.org
SUMMARY:The Amazing Mr. Franklin!
DESCRIPTION:Benjamin Franklin was the original super-genius superhero and he’s back for the reboot: The Amazing Mr. Franklin! In honor of America’s 250th birthday\, Theatre in the Classroom is reviving this fan favorite play for its Spring 2026 tour. Not only will kids learn about Benjamin Franklin’s life and inventions\, but they will also learn to ask\, “What good shall I do this day?” \n  \nTheatre in the Classroom is an initiative of the Bloomsburg Theatre Ensemble. At this performance\, you can expect professional actors to use props and costumes to create scenes that are vivid\, engaging\, and educational. This experience will include call-and-response opportunities from audience members\, and HAPL will provide additional print and online resources before and after the program for extra learning at home. This program is one of the many ways Pennsylvania Public Libraries supports the PA Forward Initiative by providing civic\, social\, and basic literacy opportunities for learning. \n  \nThis program is open to K-6th grade kids and their caregivers. The performance will last approximately one hour. Registration is required below. Please contact HAPL at (570) 584-3762 if you have any questions. \n  \n*NOTE: Please be advised that photographs may be taken at this event/program for use on the Hughesville Area Public Library website and in the press\, marketing materials\, and other library publications. By registering for or attending this event\, you consent to the library photographing and using your image and likeness. No names will be used. If you do not want your photograph taken\, you may still register or attend the event\, but please let the staff person in charge know.* \n  \n 
URL:https://haplpa.org/event/the-amazing-mr-franklin/
LOCATION:Hughesville Area Public Library\, 146 S 5th St\, Hughesville\, PA\, 17737\, United States
END:VEVENT
BEGIN:VEVENT
DTSTART;TZID=America/New_York:20260430T133000
DTEND;TZID=America/New_York:20260430T140000
DTSTAMP:20260421T041832
CREATED:20260401T171817Z
LAST-MODIFIED:20260401T171817Z
UID:10002395-1777555800-1777557600@haplpa.org
SUMMARY:Game On For Teens!
DESCRIPTION:Join us for lowkey games at the library. It’s more than just the games – it’s about making memories\, laughing until it hurts\, and finding out who the real gaming champ is. \nWe have games to choose from at the library or you can bring your own to share. \nThis event is open to ages 12-17. Please register below. \n*NOTE: Please be advised that photographs may be taken at this event/program for use on the Hughesville Area Public Library website and in the press\, marketing materials\, and other library publications. By registering for or attending this event\, you consent to the library photographing and using your image and likeness. No names will be used. If you do not want your photograph taken\, you may still register or attend the event\, but please let the staff person in charge know.*
URL:https://haplpa.org/event/game-on-for-teens-8/
LOCATION:Hughesville Area Public Library\, 146 S 5th St\, Hughesville\, PA\, 17737\, United States
END:VEVENT
BEGIN:VEVENT
DTSTART;TZID=America/New_York:20260430T140000
DTEND;TZID=America/New_York:20260430T150000
DTSTAMP:20260421T041832
CREATED:20260317T161604Z
LAST-MODIFIED:20260326T155929Z
UID:10002364-1777557600-1777561200@haplpa.org
SUMMARY:Homeschool Preschool
DESCRIPTION:This story session is perfect for children from 1 through age 4\, especially while older siblings participate in the concurrent Homeschool Community Group activities. \n  \nPlease register below.
URL:https://haplpa.org/event/homeschool-preschool-9/
LOCATION:Hughesville Area Public Library\, 146 S 5th St\, Hughesville\, PA\, 17737\, United States
END:VEVENT
BEGIN:VEVENT
DTSTART;TZID=America/New_York:20260430T140000
DTEND;TZID=America/New_York:20260430T150000
DTSTAMP:20260421T041832
CREATED:20260317T175636Z
LAST-MODIFIED:20260326T155956Z
UID:10002387-1777557600-1777561200@haplpa.org
SUMMARY:Homeschool Community Group
DESCRIPTION:Table top wars! We will make small knights and mini-replicas of castle towers and draw bridges as we learn about castle defense and attack strategies.\n \n\nThis event is open to children ages 5-14. Children who fall outside of this age requirement are welcome to participate in other activities in the main area of the library. Please call us if you have any questions.\n \n\nRegistration is required below!\n \n\n*NOTE: Please be advised that photographs may be taken at this event/program for use on the Hughesville Area Public Library website and in the press\, marketing materials\, and other library publications. By registering for or attending this event\, you consent to the library photographing and using your image and likeness. No names will be used. If you do not want your photograph taken\, you may still register or attend the event\, but please let the staff person in charge know.* \n 
URL:https://haplpa.org/event/homeschool-community-group-5/
LOCATION:Hughesville Area Public Library\, 146 S 5th St\, Hughesville\, PA\, 17737\, United States
END:VEVENT
END:VCALENDAR